Workbook

Sheet cover
A5: DOI: 10.26786/1920-7603(2026)930
A7: Appendix I. Dataset and analyses.

Sheet SingleVis08
A1: FlwrNum | B1: 1 | C1: 2 | D1: 3 | E1: 4 | F1: 5 | G1: 6 | H1: 7 | I1: 8 | J1: 9 | K1: 10
A2: stig | B2: 18 | C2: 25 | D2: 58 | E2: 24 | F2: 31 | G2: 44 | H2: 36 | I2: 64 | J2: 48 | K2: 49 | L2: Pollen deposition by pollen-foraging
A3: load | B3: 40 | C3: 27 | D3: 35 | E3: 11 | F3: 33 | G3: 46 | H3: 64 | I3: 29 | J3: 67 | K3: 47 | L3: female Diadasia diminuta
A4: grains | B4: 42 | C4: 40 | D4: 44 | E4: 26 | F4: 30 | G4: 54 | H4: 65 | I4: 66 | J4: 52 | K4: 55 | L4: visiting virgin globemallow flowers | R4: 38 | S4: 18
B5: 38 | C5: 26 | D5: 35 | E5: 23 | F5: 47 | G5: 51 | H5: 59 | L5: in common garden | R5: 26 | S5: 25
B6: 30 | C6: 26 | D6: 39 | E6: 17 | F6: 33 | G6: 47 | H6: 35 | R6: 35 | S6: 58
B7: 46 | C7: 24 | D7: 48 | E7: 59 | F7: 39 | G7: 35 | R7: 23 | S7: 24
B8: 33 | C8: 23 | D8: 30 | E8: 44 | F8: 35 | G8: 39 | L8: Sphaeralcea | R8: 47 | S8: 31
B9: 34 | C9: 43 | D9: 27 | E9: 14 | F9: 33 | G9: 43 | L9: concinnea | R9: 51 | S9: 44
B10: 20 | C10: 26 | L10: grand avg | R10: 30 | S10: 40
B11: 44 | R11: 26 | S11: 27
A12: mean | B12: =AVERAGE(B2:B11) -> 34.5 | C12: =AVERAGE(C2:C11) -> 28.888889 | D12: =AVERAGE(D2:D11) -> 39.5 | E12: =AVERAGE(E2:E11) -> 27.25 | F12: =AVERAGE(F2:F11) -> 35.125 | G12: =AVERAGE(G2:G11) -> 44.875 | H12: =AVERAGE(H2:H11) -> 51.8 | I12: =AVERAGE(I2:I11) -> 53 | ... K12: =AVERAGE(K2:K11) -> 50.333333 | L12: =AVERAGE(B12:K12) -> 42.093889 | M12: grand avg | R12: 39 | S12: 35
A13: std dev | B13: =_xlfn.STDEV.S(B2:B11) -> 9.582971 | C13: =_xlfn.STDEV.S(C2:C11) -> 7.287737 | D13: =_xlfn.STDEV.S(D2:D11) -> 10.155927 | E13: =_xlfn.STDEV.S(E2:E11) -> 16.316074 | F13: =_xlfn.STDEV.S(F2:F11) -> 5.514591 | G13: =_xlfn.STDEV.S(G2:G11) -> 6.1280969 | L13: =_xlfn.STDEV.S(B12:K12) -> 10.438545 | M13: std dev | R13: 17 | S13: 11
A14: coeff var | B14: =(B13*(100))/B12 -> 27.776728 | C14: =(C13*(100))/C12 -> 25.226782 | D14: =(D13*(100))/D12 -> 25.711208 | E14: =(E13*(100))/E12 -> 59.875503 | F14: =(F13*(100))/F12 -> 15.699903 | G14: =(G13*(100))/G12 -> 13.655926 | L14: =COUNT(B2:K11) -> 65 | M14: n | R14: 33 | S14: 33
L15: =SUM(B2:K11) -> 2515 | M15: sum | R15: 47 | S15: 46
R16: 46 | S16: 42
A17: FlwrNum | B17: 1 | C17: 2 | D17: 3 | E17: 4 | F17: 5 | G17: 6 | H17: 7 | I17: 8 | J17: 9 | K17: 10 | R17: 24 | S17: 40
A18: stig | B18: 51 | C18: 36 | D18: 30 | E18: 26 | F18: 40 | G18: 33 | H18: 49 | I18: 21 | J18: 38 | K18: 47 | R18: 48 | S18: 44
A19: load | B19: 54 | C19: 44 | D19: 32 | E19: 30 | F19: 35 | G19: 34 | H19: 35 | I19: 10 | J19: 19 | K19: 32 | R19: 59 | S19: 26
A20: grains | B20: 30 | C20: 40 | D20: 26 | E20: 19 | F20: 43 | G20: 35 | H20: 34 | I20: 15 | J20: 36 | K20: 48 | R20: 39 | S20: 30
B21: 23 | R21: 35 | S21: 54
L24: Sphaeralcea
L25: grossularifolia
L26: grand avg | R26: F-test
R27: Alpha | S27: 0.05
A28: mean | B28: =AVERAGE(B18:B27) -> 39.5 | C28: =AVERAGE(C18:C27) -> 40 | D28: =AVERAGE(D18:D27) -> 29.333333 | E28: =AVERAGE(E18:E27) -> 25 | F28: =AVERAGE(F18:F27) -> 39.333333 | G28: =AVERAGE(G18:G27) -> 34 | H28: =AVERAGE(H18:H27) -> 39.333333 | I28: =AVERAGE(I18:I27) -> 15.333333 | ... K28: =AVERAGE(K18:K27) -> 42.333333 | L28: =AVERAGE(B28:K28) -> 33.516667 | M28: grand avg | S28: Variable 1 | T28: Variable 2
A29: std dev | L29: =_xlfn.STDEV.S(B28:K28) -> 8.5014342 | M29: std dev | R29: Mean | S29: =AVERAGE(SingleVis08!$R$4:$R$21) -> 36.833333 | T29: =AVERAGE(SingleVis08!$S$4:$S$21) -> 34.888889
L30: =COUNT(B18:K27) -> 31 | M30: n | R30: Variance | S30: =_xlfn.VAR.S(SingleVis08!$R$4:$R$21) -> 127.67647 | T30: =_xlfn.VAR.S(SingleVis08!$S$4:$S$21) -> 149.86928 | U30: =((SQRT(S30)*(100))/S29) -> 30.677108 | V30: =((SQRT(T30)*(100))/T29) -> 35.088853
L31: =SUM(B18:K21) -> 1045 | M31: sum | R31: Observations | S31: =COUNT(SingleVis08!$R$4:$R$21) -> 18 | T31: =COUNT(SingleVis08!$S$4:$S$21) -> 18
R32: df | S32: =SingleVis08!$S$31 - 1 -> 17 | T32: =SingleVis08!$T$31 - 1 -> 17
R33: F | S33: =SingleVis08!$S$30 / SingleVis08!$T$30 -> 0.85191888
R34: P (F<=f) right-tail | S34: =_xlfn.F.DIST.RT(SingleVis08!$S$33, SingleVis08!$S$32, SingleVis08!$T$32) -> 0.62756116
R35: F Critical right-tail | S35: =_xlfn.F.INV.RT(SingleVis08!$S$27, SingleVis08!$S$32, SingleVis08!$T$32) -> 2.2718929
R36: P (F<=f) left-tail | S36: =1 - SingleVis08!$S$34 -> 0.37243884
R37: F Critical left-tail | S37: =_xlfn.F.INV.RT(1-SingleVis08!$S$27, SingleVis08!$S$32, SingleVis08!$T$32) -> 0.4401616
R38: P two-tail | S38: =2*MIN(SingleVis08!$S$34, SingleVis08!$S$36) -> 0.74487769
A39: Floral constancy vs. switching between Sphaeralcea species | R39: F Critical two-tail | S39: =_xlfn.F.INV.RT(1-(SingleVis08!$S$27/2), SingleVis08!$S$32, SingleVis08!$T$32) -> 0.37406945 | T39: =_xlfn.F.INV.RT(SingleVis08!$S$27/2, SingleVis08!$S$32, SingleVis08!$T$32) -> 2.6733004
A40: by foraging females of the oligolectic bee, Diadasia diminuta
A42: Date | B42: Observer | C42: Bee ID | D42: Plant Species | E42: # visits/ plant | F42: # plants | G42: # flowers | H42: # cross spp | I42: visits to conspecifics
A43: 40368 | B43: Glen/Jim | C43: g.1 | D43: munroana | E43: 2
...
