Workbook

Sheet cover
A5: DOI: 10.26786/1920-7603(2026)930
A7: Appendix I. Dataset and analyses.

Sheet SingleVis08
A1: FlwrNum | B1: 1 | C1: 2 | D1: 3 | E1: 4 | F1: 5 | G1: 6 | H1: 7 | I1: 8 | J1: 9 | K1: 10
A2: stig | B2: 18 | C2: 25 | D2: 58 | E2: 24 | F2: 31 | G2: 44 | H2: 36 | I2: 64 | J2: 48 | K2: 49 | L2: Pollen deposition by pollen-foraging
A3: load | B3: 40 | C3: 27 | D3: 35 | E3: 11 | F3: 33 | G3: 46 | H3: 64 | I3: 29 | J3: 67 | K3: 47 | L3: female Diadasia diminuta
A4: grains | B4: 42 | C4: 40 | D4: 44 | E4: 26 | F4: 30 | G4: 54 | H4: 65 | I4: 66 | J4: 52 | K4: 55 | L4: visiting virgin globemallow flowers | R4: 38 | S4: 18
B5: 38 | C5: 26 | D5: 35 | E5: 23 | F5: 47 | G5: 51 | H5: 59 | L5: in common garden | R5: 26 | S5: 25
B6: 30 | C6: 26 | D6: 39 | E6: 17 | F6: 33 | G6: 47 | H6: 35 | R6: 35 | S6: 58
B7: 46 | C7: 24 | D7: 48 | E7: 59 | F7: 39 | G7: 35 | R7: 23 | S7: 24
B8: 33 | C8: 23 | D8: 30 | E8: 44 | F8: 35 | G8: 39 | L8: Sphaeralcea | R8: 47 | S8: 31
B9: 34 | C9: 43 | D9: 27 | E9: 14 | F9: 33 | G9: 43 | L9: concinnea | R9: 51 | S9: 44
B10: 20 | C10: 26 | L10: grand avg | R10: 30 | S10: 40
B11: 44 | R11: 26 | S11: 27
A12: mean | B12: =AVERAGE(B2:B11) -> 34.5 | C12: =AVERAGE(C2:C11) -> 28.888889 | D12: =AVERAGE(D2:D11) -> 39.5 | E12: =AVERAGE(E2:E11) -> 27.25 | F12: =AVERAGE(F2:F11) -> 35.125 | G12: =AVERAGE(G2:G11) -> 44.875 | H12: =AVERAGE(H2:H11) -> 51.8 | I12: =AVERAGE(I2:I11) -> 53 | ... K12: =AVERAGE(K2:K11) -> 50.333333 | L12: =AVERAGE(B12:K12) -> 42.093889 | M12: grand avg | R12: 39 | S12: 35
A13: std dev | B13: =_xlfn.STDEV.S(B2:B11) -> 9.582971 | C13: =_xlfn.STDEV.S(C2:C11) -> 7.287737 | D13: =_xlfn.STDEV.S(D2:D11) -> 10.155927 | E13: =_xlfn.STDEV.S(E2:E11) -> 16.316074 | F13: =_xlfn.STDEV.S(F2:F11) -> 5.514591 | G13: =_xlfn.STDEV.S(G2:G11) -> 6.1280969 | L13: =_xlfn.STDEV.S(B12:K12) -> 10.438545 | M13: std dev | R13: 17 | S13: 11
A14: coeff var | B14: =(B13*(100))/B12 -> 27.776728 | C14: =(C13*(100))/C12 -> 25.226782 | D14: =(D13*(100))/D12 -> 25.711208 | E14: =(E13*(100))/E12 -> 59.875503 | F14: =(F13*(100))/F12 -> 15.699903 | G14: =(G13*(100))/G12 -> 13.655926 | L14: =COUNT(B2:K11) -> 65 | M14: n | R14: 33 | S14: 33
L15: =SUM(B2:K11) -> 2515 | M15: sum | R15: 47 | S15: 46
R16: 46 | S16: 42
A17: FlwrNum | B17: 1 | C17: 2 | D17: 3 | E17: 4 | F17: 5 | G17: 6 | H17: 7 | I17: 8 | J17: 9 | K17: 10 | R17: 24 | S17: 40
A18: stig | B18: 51 | C18: 36 | D18: 30 | E18: 26 | F18: 40 | G18: 33 | H18: 49 | I18: 21 | J18: 38 | K18: 47 | R18: 48 | S18: 44
A19: load | B19: 54 | C19: 44 | D19: 32 | E19: 30 | F19: 35 | G19: 34 | H19: 35 | I19: 10 | J19: 19 | K19: 32 | R19: 59 | S19: 26
A20: grains | B20: 30 | C20: 40 | D20: 26 | E20: 19 | F20: 43 | G20: 35 | H20: 34 | I20: 15 | J20: 36 | K20: 48 | R20: 39 | S20: 30
B21: 23 | R21: 35 | S21: 54
L24: Sphaeralcea
L25: grossularifolia
L26: grand avg | R26: F-test
R27: Alpha | S27: 0.05
A28: mean | B28: =AVERAGE(B18:B27) -> 39.5 | C28: =AVERAGE(C18:C27) -> 40 | D28: =AVERAGE(D18:D27) -> 29.333333 | E28: =AVERAGE(E18:E27) -> 25 | F28: =AVERAGE(F18:F27) -> 39.333333 | G28: =AVERAGE(G18:G27) -> 34 | H28: =AVERAGE(H18:H27) -> 39.333333 | I28: =AVERAGE(I18:I27) -> 15.333333 | ... K28: =AVERAGE(K18:K27) -> 42.333333 | L28: =AVERAGE(B28:K28) -> 33.516667 | M28: grand avg | S28: Variable 1 | T28: Variable 2
A29: std dev | L29: =_xlfn.STDEV.S(B28:K28) -> 8.5014342 | M29: std dev | R29: Mean | S29: =AVERAGE(SingleVis08!$R$4:$R$21) -> 36.833333 | T29: =AVERAGE(SingleVis08!$S$4:$S$21) -> 34.888889
L30: =COUNT(B18:K27) -> 31 | M30: n | R30: Variance | S30: =_xlfn.VAR.S(SingleVis08!$R$4:$R$21) -> 127.67647 | T30: =_xlfn.VAR.S(SingleVis08!$S$4:$S$21) -> 149.86928 | U30: =((SQRT(S30)*(100))/S29) -> 30.677108 | V30: =((SQRT(T30)*(100))/T29) -> 35.088853
L31: =SUM(B18:K21) -> 1045 | M31: sum | R31: Observations | S31: =COUNT(SingleVis08!$R$4:$R$21) -> 18 | T31: =COUNT(SingleVis08!$S$4:$S$21) -> 18
R32: df | S32: =SingleVis08!$S$31 - 1 -> 17 | T32: =SingleVis08!$T$31 - 1 -> 17
R33: F | S33: =SingleVis08!$S$30 / SingleVis08!$T$30 -> 0.85191888
R34: P (F<=f) right-tail | S34: =_xlfn.F.DIST.RT(SingleVis08!$S$33, SingleVis08!$S$32, SingleVis08!$T$32) -> 0.62756116
R35: F Critical right-tail | S35: =_xlfn.F.INV.RT(SingleVis08!$S$27, SingleVis08!$S$32, SingleVis08!$T$32) -> 2.2718929
R36: P (F<=f) left-tail | S36: =1 - SingleVis08!$S$34 -> 0.37243884
R37: F Critical left-tail | S37: =_xlfn.F.INV.RT(1-SingleVis08!$S$27, SingleVis08!$S$32, SingleVis08!$T$32) -> 0.4401616
R38: P two-tail | S38: =2*MIN(SingleVis08!$S$34, SingleVis08!$S$36) -> 0.74487769
A39: Floral constancy vs. switching between Sphaeralcea species | R39: F Critical two-tail | S39: =_xlfn.F.INV.RT(1-(SingleVis08!$S$27/2), SingleVis08!$S$32, SingleVis08!$T$32) -> 0.37406945 | T39: =_xlfn.F.INV.RT(SingleVis08!$S$27/2, SingleVis08!$S$32, SingleVis08!$T$32) -> 2.6733004
A40: by foraging females of the oligolectic bee, Diadasia diminuta
A42: Date | B42: Observer | C42: Bee ID | D42: Plant Species | E42: # visits/ plant | F42: # plants | G42: # flowers | H42: # cross spp | I42: visits to conspecifics
A43: 40368 | B43: Glen/Jim | C43: g.1 | D43: munroana | E43: 2
A44: 40368 | B44: Glen/Jim | C44: g.1 | D44: grossulariifolia | E44: 1+2+1
A45: 40368 | B45: Glen/Jim | C45: g.1 | D45: munroana | E45: 1+2+1
A46: 40368 | B46: Glen/Jim | C46: g.1 | D46: grossulariifolia | E46: 4+1+2
A47: 40368 | B47: Glen/Jim | C47: g.1 | D47: coccinea | E47: 1 | F47: 11 | G47: 17 | H47: 4 | I47: 6
A48: 40368 | B48: Glen/Jim | C48: g.2 | D48: munroana | E48: 3 | F48: 1 | G48: 3 | H48: 0 | I48: 0
A49: 40368 | B49: Glen/Jim | C49: g.3 | D49: coccinea | E49: 1
A50: 40368 | B50: Glen/Jim | C50: g.3 | D50: munroana | E50: 5 | F50: 2 | G50: 6 | H50: 1 | I50: 0
A51: 40368 | B51: Glen/Jim | C51: g.4 | D51: munroana | E51: 2 | F51: 1 | G51: 4 | H51: 0 | I51: 0
A52: 40368 | B52: Glen/Jim | C52: g.5 | D52: parviflora | E52: 1
A53: 40368 | B53: Glen/Jim | C53: g.5 | D53: coccinea | E53: 1 | F53: 2 | G53: 2 | H53: 1 | I53: 0
A54: 40368 | B54: Glen/Jim | C54: g.6 | D54: parviflora | E54: 1+1+1
A55: 40368 | B55: Glen/Jim | C55: g.6 | D55: coccinea | E55: 2 | F55: 4 | G55: 5 | H55: 1 | I55: 2
A56: 40368 | B56: Glen/Jim | C56: g.7 | D56: munroana | E56: 2 | F56: 1 | G56: 2 | H56: 0 | I56: 0
A57: 40368 | B57: Glen/Jim | C57: g.8 | D57: munroana | E57: 1
A58: 40368 | B58: Glen/Jim | C58: g.8 | D58: grossulariifolia | E58: 1
A59: 40368 | B59: Glen/Jim | C59: g.8 | D59: parviflora | E59: 2 | F59: 3 | G59: 4 | H59: 2 | I59: 0
A60: 40368 | B60: Glen/Jim | C60: g.9 | D60: parviflora | E60: 3 | F60: 1 | G60: 3 | H60: 0 | I60: 0
A61: 40368 | B61: Glen/Jim | C61: g.10 | D61: coccinea | E61: 1+1+4
A62: 40368 | B62: Glen/Jim | C62: g.10 | D62: parviflora | E62: 1 | F62: 4 | G62: 7 | H62: 1 | I62: 2
A63: 40368 | B63: Glen/Jim | C63: g.11 | D63: coccinea | E63: 3
A64: 40368 | B64: Glen/Jim | C64: g.11 | D64: parviflora | E64: 3+3 | F64: 3 | G64: 9 | H64: 1 | I64: 1
A65: 40368 | B65: Glen/Jim | C65: g.12 | D65: parviflora | E65: 1
A66: 40368 | B66: Glen/Jim | C66: g.12 | D66: coccinea | E66: 1
A67: 40368 | B67: Glen/Jim | C67: g.12 | D67: parviflora | E67: 1 | F67: 3 | G67: 3 | H67: 2 | I67: 0
A68: 40368 | B68: Glen/Jim | C68: g.13 | D68: parviflora | E68: 1 | F68: 1 | G68: 1 | H68: 0 | I68: 0
A69: 40368 | B69: Glen/Jim | C69: g.14 | D69: parviflora | E69: 1+1 | F69: 1 | G69: 2 | H69: 0 | I69: 0
A70: 40368 | B70: Glen/Jim | C70: g.15 | D70: coccinea | E70: ?
A71: 40368 | B71: Glen/Jim | C71: g.16 | D71: parviflora | E71: 1
A72: 40368 | B72: Glen/Jim | C72: g.16 | D72: coccinea | E72: 1
A73: 40368 | B73: Glen/Jim | C73: g.16 | D73: parviflora | E73: 1+1
A74: 40368 | B74: Glen/Jim | C74: g.16 | D74: coccinea | E74: 1
A75: 40368 | B75: Glen/Jim | C75: g.16 | D75: grossulariifolia | E75: 1+1+1 | F75: 8 | G75: 8 | H75: 4 | I75: 3
A76: 40368 | B76: Glen/Jim | C76: g.17 | D76: grossulariifolia | E76: 1+1 | F76: 1 | G76: 2 | H76: 0 | I76: 1
A77: 40368 | B77: Glen/Jim | C77: g.18 | D77: grossulariifolia | E77: 1+1
A78: 40368 | B78: Glen/Jim | C78: g.18 | D78: munroana | E78: 1+1+1 | F78: 5 | G78: 5 | H78: 1 | I78: 3
A79: 40368 | B79: Glen/Jim | C79: g.19 | D79: parviflora | E79: 3
A80: 40368 | B80: Glen/Jim | C80: g.19 | D80: grossulariifolia | E80: 1+1
A81: 40368 | B81: Glen/Jim | C81: g.19 | D81: munroana | E81: 1+1 | F81: 5 | G81: 7 | H81: 2 | I81: 2
A82: 40368 | B82: Glen/Jim | C82: g.20 | D82: grossulariifolia | E82: 1+2+1 | F82: 3 | G82: 4 | H82: 0 | I82: 2
A83: 40368 | B83: Glen/Jim | C83: g.21 | D83: coccinea | E83: 4+4 | F83: 2 | G83: 8 | H83: 0 | I83: 1
A84: 40368 | B84: Glen/Jim | C84: g.22 | D84: grossulariifolia | E84: 4+5
A85: 40368 | B85: Glen/Jim | C85: g.22 | D85: coccinea | E85: 1
A86: 40368 | B86: Glen/Jim | C86: g.22 | D86: parviflora | E86: 2 | F86: 4 | G86: 12 | H86: 2 | I86: 1
A87: 40368 | B87: Glen/Jim | C87: g.23 | D87: grossulariifolia | E87: 3+1
A88: 40368 | B88: Glen/Jim | C88: g.23 | D88: munroana | E88: 2 | F88: 3 | G88: 6 | H88: 1 | I88: 1
A89: 40368 | B89: Glen/Katie/Jim/Seth | C89: s.1 | D89: munroana | E89: 1
A90: 40368 | B90: Glen/Katie/Jim/Seth | C90: s.1 | D90: grossulariifolia | E90: 1
A91: 40368 | B91: Glen/Katie/Jim/Seth | C91: s.1 | D91: coccinea | E91: 2 | F91: 3 | G91: 4 | H91: 2 | I91: 0
A92: 40368 | B92: Glen/Katie/Jim/Seth | C92: s.2 | D92: parviflora | E92: 1 | F92: 1 | G92: 1 | H92: 0 | I92: 0
A93: 40368 | B93: Glen/Katie/Jim/Seth | C93: s.3 | D93: coccinea | E93: 2 | F93: 1 | G93: 2 | H93: 0 | I93: 0
A94: 40368 | B94: Glen/Katie/Jim/Seth | C94: s.4 | D94: munroana | E94: 12
A95: 40368 | B95: Glen/Katie/Jim/Seth | C95: s.4 | D95: grossulariifolia | E95: 3 | F95: 2 | G95: 15 | H95: 1 | I95: 0
A96: 40368 | B96: Glen/Katie/Jim/Seth | C96: s.5 | D96: munroana | E96: 1 | F96: 1 | G96: 1 | H96: 0 | I96: 0
A97: 40368 | B97: Glen/Katie/Jim/Seth | C97: s.6 | D97: coccinea | E97: 3 | F97: 1 | G97: 3 | H97: 0 | I97: 0
A98: 40368 | B98: Glen/Katie/Jim/Seth | C98: s.7 | D98: coccinea | E98: 1+1 | F98: 2 | G98: 2 | H98: 0 | I98: 1
A99: 40368 | B99: Glen/Katie/Jim/Seth | C99: s.8 | D99: parviflora | E99: 2 | F99: 1 | G99: 2 | H99: 0 | I99: 0
A100: 40368 | B100: Glen/Katie/Jim/Seth | C100: s.9 | D100: grossulariifolia | E100: 3 | F100: 1 | G100: 3 | H100: 0 | I100: 0
A101: 40368 | B101: Glen/Katie/Jim/Seth | C101: s.10 | D101: parviflora | E101: 1 | F101: 1 | G101: 1 | H101: 0 | I101: 0
A102: 40368 | B102: Glen/Katie/Jim/Seth | C102: s.11 | D102: coccinea | E102: 1
A103: 40368 | B103: Glen/Katie/Jim/Seth | C103: s.11 | D103: grossulariifolia | E103: 1
...
